BEGIN:VCALENDAR
PRODID:-//github.com/ical-org/ical.net//NONSGML ical.net 4.0//EN
VERSION:2.0
BEGIN:VEVENT
DESCRIPTION:Previously focused on graduating residents\, this expanded pro
 gram now supports all IR trainees—with tailored content based on where yo
 u are in your journey.
DTEND:20260928T120000
DTSTAMP:20260421T230259Z
DTSTART:20260927T120000
SEQUENCE:0
SUMMARY:SIR 2026 IR Residency Practicum
UID:3db75c35-f572-41a7-b280-9a30291a8b5b
END:VEVENT
END:VCALENDAR
